BEGIN:VCALENDAR
VERSION:2.0
PRODID:-//Central Baptist Church : Atlantic Highlands - ECPv6.15.20//NONSGML v1.0//EN
CALSCALE:GREGORIAN
METHOD:PUBLISH
X-WR-CALNAME:Central Baptist Church : Atlantic Highlands
X-ORIGINAL-URL:https://cbcah.org
X-WR-CALDESC:Events for Central Baptist Church : Atlantic Highlands
REFRESH-INTERVAL;VALUE=DURATION:PT1H
X-Robots-Tag:noindex
X-PUBLISHED-TTL:PT1H
BEGIN:VTIMEZONE
TZID:America/New_York
BEGIN:DAYLIGHT
TZOFFSETFROM:-0500
TZOFFSETTO:-0400
TZNAME:EDT
DTSTART:20250309T070000
END:DAYLIGHT
BEGIN:STANDARD
TZOFFSETFROM:-0400
TZOFFSETTO:-0500
TZNAME:EST
DTSTART:20251102T060000
END:STANDARD
BEGIN:DAYLIGHT
TZOFFSETFROM:-0500
TZOFFSETTO:-0400
TZNAME:EDT
DTSTART:20260308T070000
END:DAYLIGHT
BEGIN:STANDARD
TZOFFSETFROM:-0400
TZOFFSETTO:-0500
TZNAME:EST
DTSTART:20261101T060000
END:STANDARD
BEGIN:DAYLIGHT
TZOFFSETFROM:-0500
TZOFFSETTO:-0400
TZNAME:EDT
DTSTART:20270314T070000
END:DAYLIGHT
BEGIN:STANDARD
TZOFFSETFROM:-0400
TZOFFSETTO:-0500
TZNAME:EST
DTSTART:20271107T060000
END:STANDARD
END:VTIMEZONE
BEGIN:VEVENT
DTSTART;TZID=America/New_York:20260322T140000
DTEND;TZID=America/New_York:20260322T153000
DTSTAMP:20260420T084546
CREATED:20260127T211158Z
LAST-MODIFIED:20260127T211254Z
UID:10001547-1774188000-1774193400@cbcah.org
SUMMARY:2026 Glow in the Dark Easter Egg Hunt & Party!
DESCRIPTION:This year\, we’ll be hosting a super-fun Glow in the Dark Easter Egg Hunt! Kids will get flashlights and go on an egg hunt in the dark\, searching for eggs of different colors and designs. It’s a really fun time. Once your child completes the egg hunt\, there’ll be crafts\, treats\, and more. \nNew egg hunts begin every 10-15 minutes (as soon as we can reset the room). Feel free to come whenever you can\, and stay for as long as you want. \nAnd by all means\, please invite your friends\, family\, and neighbors! \nContact Central Kids director\, Rebecca Delucia\, for more information and with any questions you have.
URL:https://cbcah.org/event/glow-in-the-dark-easter-egg-hunt-party-2
LOCATION:Central Baptist Church\, 28 East Highland Ave\, Atlantic Highlands\, NJ\, 07716
CATEGORIES:Kids,Special Event
ATTACH;FMTTYPE=image/png:https://cbcah.org/wp-content/uploads/2026/01/2026-egghunt-1080.png
END:VEVENT
END:VCALENDAR